BEGIN:VCALENDAR
PRODID:-//Det Danske Spejderkorps//NONSGML Gruppeweb//EN
VERSION:2.0
CALSCALE:GREGORIAN
X-PUBLISHED-TTL:PT1H
X-WR-CALNAME:Gørlev Gruppe
METHOD:PUBLISH
BEGIN:VEVENT
UID:gruppeweb.dk:3311:event:218
DTSTAMP:20260423T150019Z
LAST-MODIFIED:20250422T172509Z
SUMMARY:Gruppetur 2025
DESCRIPTION:Gruppetur d. 25-27 april 2025 i Høng.\n\nVi holder gruppetur i
  Høngspejdernes Hytte\, Spejderhytten\, Møllevej 38A  \n4270 Høng.\n\nV
 i mødes fredag kl 18.30\, alle har spist hjemmefra til søndag kl 13.00 p
 å  \nadressen.\n\nDet er en hverdagshytte uden sengepladser\, så alle sk
 al have liggeunderlag  \nog sovepose med\, De store sover ude og familie\,
  mini spejdere sover i  \npatruljerum.\n\n\nDet bliver en tur hvor vi skal
  forsøge at gøre vores blå uniform synlig i  \nby billedet ( lidt rekla
 me som optakt til spejderdagen d. 11 maj) Som vanlig  \nbliver der mulighe
 d for både spejderfærdigheder\, fælles aktiviteter\, sjov  \nog hygge o
 g et klassisk lejrbål.\n\n\nPakkeliste: alle pakker i rygsæk da der er e
 t stykke fra vejen og til hytten  \n(ingen nærliggende P-plads)\n\nSovepo
 se\, en lagenpose\, liggeunderlag\, varmt nattøj\, sovestrømper\, en hue
   \nog lille sovedyr.\n\nTallerkner\, bestik\, drikkeglas og kop\, viskest
 ykke alt i bestikpose\,  \ndrikkedunk.\n\nSkifte og ekstra tøj efter vejr
 et\, samt ind og ude sko (gummistøvler hvis  \nvejrudsigten melder regn) 
 en lille slikpose.\n\n\nSkynd dig og meld dig til forårets hyggeligste tu
 r.\n\n\nSpejder hilsen\n\nGørlev gruppes ledere \n\n
URL:https://ddsgoerlev.dk/begivenhed/gruppetur-2025
DTSTART:20250425T163000Z
DTEND:20250427T110000Z
LOCATION:Høngspejderne\, Møllevej 10\, 4270 Høng
END:VEVENT
BEGIN:VEVENT
UID:gruppeweb.dk:3311:event:215
DTSTAMP:20260423T150019Z
LAST-MODIFIED:20250207T174656Z
SUMMARY:Sct. Georgsløb 2025
DESCRIPTION:Sct. Georgs Gilderne inviterer til Sct. Georgs løb 2025\n\nVi
  mødes i Kløverhuset\, Teglværkvej 11\, 4200 Slagelse kl. 09:15 (Løbet
   \nbegynder kl. 09:30) og slutter samme sted kl. ca. 14:00\n\nHusk at med
 bringe: Dag tur rygsæk\, madpakke\, kop\, drikkedunk og evt.  \nregntøj.
  (Tøj efter vejret)\n\nPris 30.- indbetales via medlemsservice.\n\nI skal
  selv sørge for transport til og fra Slagelse.\n\n\n
URL:https://ddsgoerlev.dk/begivenhed/sct-georgsloeb-2025
DTSTART:20250503T071500Z
DTEND:20250503T120000Z
LOCATION:Kløverhuset\, Teglværksvej 11\, 4200 Slagelse
END:VEVENT
BEGIN:VEVENT
UID:gruppeweb.dk:3311:event:221
DTSTAMP:20260423T150019Z
LAST-MODIFIED:20250422T190455Z
SUMMARY:SPEJDERDAG i Gørlev
DESCRIPTION:Spejderdag er et landsdækkende arrangement\, Det går i korte 
 træk ud på at  \nså mange blå spejdere som muligt skal ud og vise hvad
  de kan\, fortælle om  \ndet og på den måde skabe interesse for at andr
 e vil blive spejder.\n\n
URL:https://ddsgoerlev.dk/begivenhed/spejderdag-i-goerlev
DTSTART:20250511T104500Z
DTEND:20250511T130000Z
LOCATION:Gørlev Gruppe\, Vandværksvej 12\, 4281 Gørlev
END:VEVENT
BEGIN:VEVENT
UID:gruppeweb.dk:3311:event:222
DTSTAMP:20260423T150019Z
LAST-MODIFIED:20250509T183610Z
SUMMARY:Basilisk 2025
DESCRIPTION:Kalder alle tropsspejdere i Antvorskov division \n\nSå er det
  tid til årets Basiliskturnering. Vi håber at se så mange af jer  \nsom
  muligt.\n\nMødetid Fredag den 16. maj klokken 17.00.\n\nMødestedOldebje
 rg naturgrund \n\n Topshøjvej 96\n\n 4180 Sorø\n\nSluttidspunktsønda
 g den 18. maj klokken 12.00\n\nPris 200 kr.\n\nMedbring Madpakke til aften
 smaden fredag\n\n Grej til turnering\n\n Patruljekasse\n\n Patruljestan
 der\n\n Materialer til at bygge en bivuak \n\nMad til morgenmad (lørdag
  og søndag)\, frokost til lørdag\, aftensmad  \nlørdag\n\nDer skal konk
 urreres i patruljer af 4-7 personer. \n\nKan din gruppe ikke stille en he
 l patrulje\, skal du ikke være bange for at  \ntilmelde dig\, da vi vil d
 anne patruljer for dem\, der ikke selv kan stille en  \nfuld patrulje. \n
 \nKan din gruppe selv stille med en eller flere patruljer konkurrerer I  \
 nselvfølgeligt sammen. \n\nVi skal konkurrere i følgende discipliner:\n
 \nDagløb\n\nLejretablering - Der skal overnattes i bivuak eller telt\n\nM
 ad - frokost og aftensmad\n\nNatløb + turbospejd \n\nTotal vinder \n\nS
 å skal vi selvfølgelig have lejrbål\, hvor alle der har lyst bidrager m
 ed  \nnoget underholdning.\n\nVil du ikke gå glip af denne fantastiske mu
 lighed\, for en fed oplevelse  \nsammen med dine spejderkammerater fra div
 isionen\, skal du tilmelde senest  \nIndsæt selv dato for seneste tilmeld
 ing\n\nVi håber på at se dig til nogle sjove og fede dage sammen.\n\n\n
URL:https://ddsgoerlev.dk/begivenhed/basilisk-2025
DTSTART:20250516T150000Z
DTEND:20250517T180000Z
LOCATION:Oldebjerg\, Topshøjvej 96\, 4180  Sorø
END:VEVENT
BEGIN:VEVENT
UID:gruppeweb.dk:3311:event:219
DTSTAMP:20260423T150019Z
LAST-MODIFIED:20250502T145401Z
SUMMARY:Føniks Lejr 2025
DESCRIPTION:Lejr for minispejdere i Antvorskov Division 2025\n\n
URL:https://ddsgoerlev.dk/begivenhed/foeniks-lejr-2025
DTSTART:20250517T070000Z
DTEND:20250518T093000Z
LOCATION:Gørlev Gruppe\, Vandværksvej 12\, 4281 Gørlev
END:VEVENT
BEGIN:VEVENT
UID:gruppeweb.dk:3311:event:223
DTSTAMP:20260423T150019Z
LAST-MODIFIED:20250609T175429Z
SUMMARY:Københavertur
DESCRIPTION:Pigerne har planlagt en tur til København. Turen består af to
 g fra Slagelse  \nvi mødes kl 9 på bussiden af stationen og tager toget 
 9.10. Når vi er  \nlandet i København tager vi sammen hjem til Claras mo
 rmor\, som har været  \nmeget sød og ladet os låne hendes baghave\,  h
 vor vi slår et telt op. Husk  \nen madpakke til froksot lørdag.\n\nSå g
 år turen til Tivoli\, hvor der skal prøves en masse forlystelser. \n\nS
 øndag har pigerne planlagt en tur i Fields. \n\n
URL:https://ddsgoerlev.dk/begivenhed/koebenhavertur
DTSTART:20250614T070000Z
DTEND:20250615T150000Z
LOCATION:Gørlev Gruppe\, Vandværksvej 12\, 4281 Gørlev
END:VEVENT
BEGIN:VEVENT
UID:gruppeweb.dk:3311:event:220
DTSTAMP:20260423T150019Z
LAST-MODIFIED:20250615T121147Z
SUMMARY:Sommerlejr 2025
DESCRIPTION:Trop\, senior lørdag d. 05 juli- 12juli 2025 tid og transport 
 tilgår senere\n\nMini mandag d.07juli- 11juli 2025 bringes til spejdercen
 teret mellem kl 8-9\,  \nfælles kørsel af forældre. Fredag eftermiddag 
 inviteres mini forældre til  \nat hente deres barn og der vil være fæll
 es aftensmad og måske lejrbål  \ninden vi siger farvel og god ferie.\n\n
 Familie spejderne er velkomne til en enkelt overnatning\, men lad os tales
  ved  \nhvornår det passer og der vil blive opkrævet center gebyr for ti
 dsrummet. \n\nNæsby spejdercenter udbyder mange forskellige aktiviteter 
 og ligger dejligt  \nfredeligt med skov og sø. På sommerlejr sover vi i 
 telt og laver selv mad  \npå bål\, vi opholder os udendørs hele ugen\, 
 bruger alle de  \nspejderfærdigheder vi har øvet gennem året.\n\nDette 
 er en fantastisk måde at skabe gode spejder minder\, historier og  \nkamm
 erater. I vores gruppe stammer langt de fleste gode spejderminder fra  \nn
 etop sommerlejrene. Så kom og vær med til at skabe nogle nye. \n\n
URL:https://ddsgoerlev.dk/begivenhed/sommerlejr-2025
DTSTART:20250705T070000Z
DTEND:20250712T090000Z
LOCATION:Gørlev Gruppe\, Vandværksvej 12\, 4281 Gørlev
END:VEVENT
BEGIN:VEVENT
UID:gruppeweb.dk:3311:event:211
DTSTAMP:20260423T150019Z
LAST-MODIFIED:20260213T100941Z
SUMMARY:Spillopperne
DESCRIPTION:>Gørlev gruppe har tjansen med at tømme containerne på Kalun
 dborg  \n>genbrugsstation for spilopmagerne. vi tjener DKK 14.500 på det\
 , direkte ned  \n>i gruppens kasse\, så der er lidt at at lave sjove ting
  for og med jeres  \n>børn.\n>Vi skal mødes kl. 08:45 i Kalundborg hos s
 pilopmagerne\, Langagern vej 15\,  \n>4400 Kalundborg\, så kører vi i sa
 mlet flok ned til genbrugsstation\, der  \n>åbner kl. 09:00 (i Spilopmage
 rnes biler) og får tømt containerne. Jeg kan  \n>ikke sige noget om hvor
  lang tid det tager. Sidste gang var vi meget hurtigt  \n>færdige\, det t
 og kun et par timer både lørdag og søndag\, men det kan jeg  \n>ikke ga
 rantere at det gør\, det kommer an på hvor meget der er i  \n>containern
 e :-)\n
URL:https://ddsgoerlev.dk/begivenhed/spillopperne-2
DTSTART:20250816T064500Z
DTEND:20250816T110000Z
LOCATION:Gørlev Gruppe\, Vandværksvej 12\, 4281 Gørlev
END:VEVENT
BEGIN:VEVENT
UID:gruppeweb.dk:3311:event:209
DTSTAMP:20260423T150019Z
LAST-MODIFIED:20260213T100939Z
SUMMARY:Spillopperne
DESCRIPTION:>Gørlev gruppe har tjansen med at tømme containerne på Kalun
 dborg  \n>genbrugsstation for spilopmagerne. vi tjener DKK 14.500 på det\
 , direkte ned  \n>i gruppens kasse\, så der er lidt at at lave sjove ting
  for og med jeres  \n>børn.\n>Vi skal mødes kl. 08:45 i Kalundborg hos s
 pilopmagerne\, Langagern vej 15\,  \n>4400 Kalundborg\, så kører vi i sa
 mlet flok ned til genbrugsstation\, der  \n>åbner kl. 09:00 (i Spilopmage
 rnes biler) og får tømt containerne. Jeg kan  \n>ikke sige noget om hvor
  lang tid det tager. Sidste gang var vi meget hurtigt  \n>færdige\, det t
 og kun et par timer både lørdag og søndag\, men det kan jeg  \n>ikke ga
 rantere at det gør\, det kommer an på hvor meget der er i  \n>containern
 e :-)\n
URL:https://ddsgoerlev.dk/begivenhed/spillopperne-0
DTSTART:20250817T064500Z
DTEND:20250817T110000Z
LOCATION:Gørlev Gruppe\, Vandværksvej 12\, 4281 Gørlev
END:VEVENT
BEGIN:VEVENT
UID:gruppeweb.dk:3311:event:226
DTSTAMP:20260423T150019Z
LAST-MODIFIED:20250831T082617Z
SUMMARY:GØRLEV GRUPPE 40 ÅRS JUBILÆUM
DESCRIPTION:Gørlev gruppe har 40 års jubilæum - 6. september 2025.\n\nKl
 . 14:00 - Pladsen åbner med velkomst og en masse spejder sjov.\n\nKl. 17:
 00-19:00 Pølsevogn\n\nKl: 19:30 - XXXX   Fælles lejrbål\n\nDerefter N
 at i Naturen og overnatning i telt hvis man har lyst - husk at tage  \ntel
 t med og tøj efter vejret.\n\nSe vedheftet fil.\n\n\n
URL:https://ddsgoerlev.dk/begivenhed/goerlev-gruppe-40-aars-jubilaeum
DTSTART:20250906T120000Z
DTEND:20250907T080000Z
LOCATION:Gørlev Gruppe\, Vandværksvej 12\, 4281 Gørlev
END:VEVENT
BEGIN:VEVENT
UID:gruppeweb.dk:3311:event:224
DTSTAMP:20260423T150019Z
LAST-MODIFIED:20250820T193909Z
SUMMARY:Mini-Dag i Antvorskov Division
DESCRIPTION:\n
URL:https://ddsgoerlev.dk/begivenhed/mini-dag-i-antvorskov-division
DTSTART:20250913T080000Z
DTEND:20250913T180000Z
LOCATION:Karl Af Riise\, Fægangen 7\, 4180 Sorø
END:VEVENT
BEGIN:VEVENT
UID:gruppeweb.dk:3311:event:225
DTSTAMP:20260423T150019Z
LAST-MODIFIED:20250830T080938Z
SUMMARY:Arbejdsdag i hytten
DESCRIPTION:Så er det blevet tid til den årlige arbejdsdag i hytten. Lør
 dag den  \n20/9-2025 kl. 09:00-14:00\n\n\nVi skal have lavet en del ting i
  år.\n\nBlandt andet:\n\nUdvendig vedligehold af hytte\, flader der skal 
 males\, rensning af tagrender  \nmm.\n\nVedligehold af grønne områder\, 
 beskæring af hæk og træer mm.\n\nSå hvis du har en hækkeklipper\, en 
 brænde flækker\, grensaks\, stiger\,  \ntrillebør\, motorsav etc. må d
 u meget gerne tage det med. \n\nSkulle der være en der har en større h
 ækklipper\, gerne monteret på  \ntraktor eller mini graver må man godt 
 tage den med da vi har mange meter  \nhæk rundt om grunden.\n\nIndvendig 
 vedligehold af hytte\, her under rengøring mm.\n\nDu er også velkommen t
 il at tage pensler og malerspande med.\n\nGruppen giver frokost + drikke\,
  så husk at tilmeld jer så vi ved hvor mange  \nvi skal handle ind til.
  \n\n\nVi glæder os til at se jer til en hyggelig dag.\n\n
URL:https://ddsgoerlev.dk/begivenhed/arbejdsdag-i-hytten-0
DTSTART:20250920T070000Z
DTEND:20250920T120000Z
LOCATION:Gørlev Gruppe\, Vandværksvej 12\, 4281 Gørlev
END:VEVENT
BEGIN:VEVENT
UID:gruppeweb.dk:3311:event:229
DTSTAMP:20260423T150019Z
LAST-MODIFIED:20251104T210452Z
SUMMARY:Juleafslutning
DESCRIPTION:\n
URL:https://ddsgoerlev.dk/begivenhed/juleafslutning-1
DTSTART:20251125T173000Z
DTEND:20251125T190000Z
LOCATION:
END:VEVENT
BEGIN:VEVENT
UID:gruppeweb.dk:3311:event:228
DTSTAMP:20260423T150019Z
LAST-MODIFIED:20251103T172626Z
SUMMARY:Roelygte optog
DESCRIPTION:Vi deltager i det traditionsrige roelygte optog i Gørlev\, hvo
 r juletræet  \npå Bytorvet skal tændes\, vi mødes ved Gørlev hallen o
 g går fra hallen  \ntil bytorvet. Når vi ankommer til Bytorvet vil der b
 live uddelte præmier  \ntil de tre flotteste roelygter og der vil være s
 likposer og noget at drikke  \ntil alle deltagere.\n\n\nVi får leveret ro
 er til at lave Roelygter af\, og vi bruger et par  \nspejdermøde til dett
 e.\n\n\nSå kom og være med Fredag den 28/11-25.\n\n
URL:https://ddsgoerlev.dk/begivenhed/roelygte-optog
DTSTART:20251128T154500Z
DTEND:20251128T174500Z
LOCATION:Gørlev Gruppe\, Vandværksvej 12\, 4281 Gørlev
END:VEVENT
BEGIN:VEVENT
UID:gruppeweb.dk:3311:event:237
DTSTAMP:20260423T150019Z
LAST-MODIFIED:20260111T145036Z
SUMMARY:Spildlopperne
DESCRIPTION:Gørlev gruppe har tjansen med at tømme containerne på Kalund
 borg  \ngenbrugsstation for spilopmagerne. vi tjener DKK 14.500 på det\, 
 direkte ned  \ni gruppens kasse\, så der er lidt at at lave sjove ting fo
 r og med jeres  \nbørn.Vi skal mødes kl. 08:45 i Kalundborg hos spilopma
 gerne\, Langagern vej  \n15\, 4400 Kalundborg\, så kører vi i samlet flo
 k ned til genbrugsstation\, der  \nåbner kl. 09:00 (i Spilopmagernes bile
 r) og får tømt containerne. Jeg kan  \nikke sige noget om hvor lang tid 
 det tager. Sidste gang var vi meget hurtigt  \nfærdige\, det tog kun et p
 ar timer både lørdag og søndag\, men det kan jeg  \nikke garantere at d
 et gør\, det kommer an på hvor meget der er i containerne  \n:-)\n\n
URL:https://ddsgoerlev.dk/begivenhed/spildlopperne-1
DTSTART:20260314T074500Z
DTEND:20260314T110000Z
LOCATION:Gørlev Gruppe\, Vandværksvej 12\, 4281 Gørlev
END:VEVENT
BEGIN:VEVENT
UID:gruppeweb.dk:3311:event:233
DTSTAMP:20260423T150019Z
LAST-MODIFIED:20260111T145046Z
SUMMARY:Spildlopperne 15/3-26
DESCRIPTION:Gørlev gruppe har tjansen med at tømme containerne på Kalund
 borg  \ngenbrugsstation for spilopmagerne. vi tjener DKK 14.500 på det\, 
 direkte ned  \ni gruppens kasse\, så der er lidt at at lave sjove ting fo
 r og med jeres  \nbørn.Vi skal mødes kl. 08:45 i Kalundborg hos spilopma
 gerne\, Langagern vej  \n15\, 4400 Kalundborg\, så kører vi i samlet flo
 k ned til genbrugsstation\, der  \nåbner kl. 09:00 (i Spilopmagernes bile
 r) og får tømt containerne. Jeg kan  \nikke sige noget om hvor lang tid 
 det tager. Sidste gang var vi meget hurtigt  \nfærdige\, det tog kun et p
 ar timer både lørdag og søndag\, men det kan jeg  \nikke garantere at d
 et gør\, det kommer an på hvor meget der er i containerne  \n:-)\n\n
URL:https://ddsgoerlev.dk/begivenhed/spildlopperne-153-26
DTSTART:20260315T074500Z
DTEND:20260315T110000Z
LOCATION:Gørlev Gruppe\, Vandværksvej 12\, 4281 Gørlev
END:VEVENT
BEGIN:VEVENT
UID:gruppeweb.dk:3311:event:241
DTSTAMP:20260423T150019Z
LAST-MODIFIED:20260403T121833Z
SUMMARY:Sct. George Løbet 2026
DESCRIPTION:*\n*\n\nSct. Georgs Gilderne i Slagelse\ninviterer til\n\n\n\n*
 Sct. Georgs Løb lørdag den 2. maj 2026***\n\n\n\n*for **alle\nspejdere i
  alderen **7 - 12 år*\n\n\n\n* *\n\n-     afholdes ved Kløverhuset\
 ,\nTeglværksvej 11\, 4200 Slagelse\n\n\n\n* *\n\n*I år er temaet: **Sø
 røvertogt***\n\n\n\nI skal hjælpe den gode kaptajn Georg\nog I bliver ud
 fordret i forskellige discipliner med relation til livet på et\nsørøver
 skib. Det er godt at kunne bruge forskellige spejderfærdigheder\,  \nsit\
 nhoved\, være vågen og hjælpsom – sin fantasi.\n\n\n\n*Skal du med?*\
 n\n\n\n \n\nLøbet afvikles som en\npatruljekonkurrence\n\n\n\ni følgend
 e 2 aldersgrupper:\n\n\n\nGRUPPE A: 7 - 10 ÅR\n\n\n\nGRUPPE B: 10 - 12 Å
 R\n\n\n\nPatruljerne skal være på minimum 4 og\nhøjst 7 medlemmer.\n\n\
 n\nPatruljer under 4 medlemmer kan deltage\nuden for konkurrencen.  \n\n\
 n\n \n\nPris pr. deltager: 30 kr\n\n\n\n \n\nHusk madpakke\, krus – og
  evt. regntøj!\n\n\n\n \n\nPræmier: Der er præmier til de 3 bedste\npa
 truljer samt turn out i hver gruppe.\n\n\n\nEndvidere vandrestanderen til 
 bedste\nflok (med mindst 2 gennemførte patruljer).\n\n\n\n* *\n\n*Tidspl
 an:\n*\n\n\n\nkl.   9.30 Vi møder ved Kløverhuset\n\n\n\nkl. 10.00 Lø
 bet starter\n\n\n\nkl. 11.25 20 min. spisepause (medbragt\nmadpakke)\n\n\n
 \nkl. 13.15 (ca) Tovtrækning og derefter serveres\nder chokoladeboller og
  sodavand  \n\n\n\nkl. 13.45\nPræmieoverrækkelse og afslutning\n\n\n\n*
  *\n\n\nTilmelding skal ske til på medlemsservice senest den\n14. april:
  \n\n\n\n
URL:https://ddsgoerlev.dk/begivenhed/sct-george-loebet-2026
DTSTART:20260502T073000Z
DTEND:20260502T120000Z
LOCATION:Kløverhuset\, Teglværksvej 11\, 4200 Slagelse
END:VEVENT
BEGIN:VEVENT
UID:gruppeweb.dk:3311:event:238
DTSTAMP:20260423T150019Z
LAST-MODIFIED:20260120T182914Z
SUMMARY:Spejdernes Lejr 2026 Trop/Klan
DESCRIPTION:\nI sommeren 2026 samles 30.000 spejdere fra\nhele Danmark og v
 erden til Spejdernes Lejr. Det er Nordens største  \nspejderlejr.\n\n\n\n
 Spejdernes Lejr foregår fra 18. til 26. juli 2026 i Hedeland Naturpark. D
 et  \ner 8 dage fulde af sjove aktiviteter\, nye venskaber\, store oplevel
 ser og  \nmasser af spejderliv sammen med dem du kender fra gruppen\, men 
 med rig  \nmulighed for at møde spejdere på tværs af korps fra resten a
 f Danmark og  \nhele verden.\n\n\n\nVi fra Gørlev Gruppe skal selvfølgel
 ig også\nmed\, og vi håber\, at DU vil være en del af oplevelsen!\n\n\n
 \n*Hvorfor skal du med på Spejdernes\nLejr 2026?*\n\n\n\nSpejdernes Lejr 
 er en lidt større oplevelse\,\nend du er vant til fra gruppeture og cente
 rlejre. Lejren foregår hvert  \nfjerde\når forskellige steder i Danmark.
  Hvis du tager med på Spejdernes Lejr 2026  \nfår\ndu:**\n\n\n\n•  
         En\nhel uge fyldt med aktiviteter\, udfordringer og oplevel
 ser.\n\n\n\n•          Et\nunikt fællesskab med spejdere fra h
 ele landet (og resten af verden).\n\n\n\n•          Oplevelsen\
 naf en spejderby\, hvor 30.000 af børn\, unge og voksne bor\, leger\, læ
 rer og  \narbejder\nsammen.\n\n\n\n•          Minder\nfor livet
 !\n\n\n\n*Praktisk lejren*\n\n\n\n*•          Hvornår:* Sommer
 en 2026 18. til 26. juli 2026\n\n\n\n•          *Hvor:*\nHedela
 nd Naturpark ved Roskilde\n\n\n\n•          Pris: 1400 kr.\n\n\
 n\n•          Transport:\nVi rejser samlet som gruppe med opsam
 ling et sted i kommunen\n\n\n\n\nTilmeld dig senest 24. februar på medlem
 sseervice \n\n\n\n
URL:https://ddsgoerlev.dk/begivenhed/spejdernes-lejr-2026-tropklan
DTSTART:20260718T100000Z
DTEND:20260726T100000Z
LOCATION:Gørlev Gruppe\, Vandværksvej 12\, 4281 Gørlev
END:VEVENT
BEGIN:VEVENT
UID:gruppeweb.dk:3311:event:239
DTSTAMP:20260423T150019Z
LAST-MODIFIED:20260119T175347Z
SUMMARY:Spejdernes Lejr 2026 Mini
DESCRIPTION:\nI sommeren 2026 samles 30.000 spejdere fra\nhele Danmark og v
 erden til Spejdernes Lejr. Det er Nordens største  \nspejderlejr.\n\n\n\n
 Spejdernes Lejr foregår fra 22. til 26. juli\n2026 i Hedeland Naturpark. 
 Det er 5 dage fulde af sjove aktiviteter\, nye\nvenskaber\, store oplevels
 er og masser af spejderliv sammen med dem du kender\nfra gruppen\, men med
  rig mulighed for at møde spejdere på tværs af korps  \nfra\nresten af 
 Danmark og hele verden.\n\n\n\nVi fra Gørlev Gruppe skal selvfølgelig og
 så\nmed\, og vi håber\, at DU vil være en del af oplevelsen!\n\n\n\n*Hv
 orfor skal du med på Spejdernes\nLejr 2026?*\n\n\n\nSpejdernes Lejr er en
  lidt større oplevelse\,\nend du er vant til fra gruppeture og centerlejr
 e. Lejren foregår hvert  \nfjerde\når forskellige steder i Danmark. Hvis
  du tager med på Spejdernes Lejr 2026  \nfår\ndu:**\n\n\n\n•     
      En\nhel uge fyldt med aktiviteter\, udfordringer og oplevelser.\n
 \n\n\n•          Et\nunikt fællesskab med spejdere fra hele la
 ndet (og resten af verden).\n\n\n\n•          Oplevelsen\naf en
  spejderby\, hvor 30.000 af børn\, unge og voksne bor\, leger\, lærer og
   \narbejder\nsammen.\n\n\n\n•          Minder\nfor livet!\n\n\
 n\n*Praktisk lejren*\n\n\n\n*•          Hvornår:* Sommeren 202
 6 22 til 26. juli 2026\n\n\n\n•          *Hvor:*\nHedeland Natu
 rpark ved Roskilde\n\n\n\n•          Pris:\n800 kr\n\n\n\n• 
          Transport:\nVi rejser samlet som gruppe med opsamling et 
 sted i kommunen\n\n\n\n\nTilmeld dig senest 24. februar på medlemsseervic
 e \n\n\n\n
URL:https://ddsgoerlev.dk/begivenhed/spejdernes-lejr-2026-mini
DTSTART:20260722T100000Z
DTEND:20260726T100000Z
LOCATION:Gørlev Gruppe\, Vandværksvej 12\, 4281 Gørlev
END:VEVENT
BEGIN:VEVENT
UID:gruppeweb.dk:3311:event:236
DTSTAMP:20260423T150019Z
LAST-MODIFIED:20260111T132648Z
SUMMARY:Spildlopperne 22/8-26
DESCRIPTION:>Gørlev gruppe har tjansen med at tømme containerne på Kalun
 dborg  \n>genbrugsstation for spilopmagerne. vi tjener DKK 14.500 på det\
 , direkte ned  \n>i gruppens kasse\, så der er lidt at at lave sjove ting
  for og med jeres  \n>børn.\n>Vi skal mødes kl. 08:45 i Kalundborg hos s
 pilopmagerne\, Langagern vej 15\,  \n>4400 Kalundborg\, så kører vi i sa
 mlet flok ned til genbrugsstation\, der  \n>åbner kl. 09:00 (i Spilopmage
 rnes biler) og får tømt containerne. Jeg kan  \n>ikke sige noget om hvor
  lang tid det tager. Sidste gang var vi meget hurtigt  \n>færdige\, det t
 og kun et par timer både lørdag og søndag\, men det kan jeg  \n>ikke ga
 rantere at det gør\, det kommer an på hvor meget der er i  \n>containern
 e :-)\n
URL:https://ddsgoerlev.dk/begivenhed/spildlopperne-228-26
DTSTART:20260822T064500Z
DTEND:20260822T100000Z
LOCATION:Spildlopperne\, Langagervej 15\, 4400 Kalundborg
END:VEVENT
BEGIN:VEVENT
UID:gruppeweb.dk:3311:event:235
DTSTAMP:20260423T150019Z
LAST-MODIFIED:20260111T132645Z
SUMMARY:Spildlopperne 23/8-26
DESCRIPTION:>Gørlev gruppe har tjansen med at tømme containerne på Kalun
 dborg  \n>genbrugsstation for spilopmagerne. vi tjener DKK 14.500 på det\
 , direkte ned  \n>i gruppens kasse\, så der er lidt at at lave sjove ting
  for og med jeres  \n>børn.\n>Vi skal mødes kl. 08:45 i Kalundborg hos s
 pilopmagerne\, Langagern vej 15\,  \n>4400 Kalundborg\, så kører vi i sa
 mlet flok ned til genbrugsstation\, der  \n>åbner kl. 09:00 (i Spilopmage
 rnes biler) og får tømt containerne. Jeg kan  \n>ikke sige noget om hvor
  lang tid det tager. Sidste gang var vi meget hurtigt  \n>færdige\, det t
 og kun et par timer både lørdag og søndag\, men det kan jeg  \n>ikke ga
 rantere at det gør\, det kommer an på hvor meget der er i  \n>containern
 e :-)\n
URL:https://ddsgoerlev.dk/begivenhed/spildlopperne-238-26
DTSTART:20260823T064500Z
DTEND:20260823T100000Z
LOCATION:Spildlopperne\, Langagervej 15\, 4400 Kalundborg
END:VEVENT
END:VCALENDAR
